BEGIN:VCALENDAR
VERSION:2.0
PRODID:-//BSCA - ECPv6.15.11//NONSGML v1.0//EN
CALSCALE:GREGORIAN
METHOD:PUBLISH
X-ORIGINAL-URL:https://www.bsca.com.br
X-WR-CALDESC:Eventos para BSCA
REFRESH-INTERVAL;VALUE=DURATION:PT1H
X-Robots-Tag:noindex
X-PUBLISHED-TTL:PT1H
BEGIN:VTIMEZONE
TZID:UTC
BEGIN:STANDARD
TZOFFSETFROM:+0000
TZOFFSETTO:+0000
TZNAME:UTC
DTSTART:20250101T000000
END:STANDARD
END:VTIMEZONE
BEGIN:VEVENT
DTSTART;VALUE=DATE:20260314
DTEND;VALUE=DATE:20260315
DTSTAMP:20260426T035320
CREATED:20260129T172815Z
LAST-MODIFIED:20260129T172815Z
UID:6659-1773446400-1773532799@www.bsca.com.br
SUMMARY:CURSO INTRODUÇÃO AOS CAFÉS ESPECIAIS SCA
DESCRIPTION:
URL:https://www.bsca.com.br/event/curso-introducao-aos-cafes-especiais-sca/
LOCATION:Florianópolis\, SC\, Florianópolis\, SC
CATEGORIES:Cursos
END:VEVENT
BEGIN:VEVENT
DTSTART;VALUE=DATE:20260314
DTEND;VALUE=DATE:20260315
DTSTAMP:20260426T035320
CREATED:20260205T132624Z
LAST-MODIFIED:20260205T132624Z
UID:6707-1773446400-1773532799@www.bsca.com.br
SUMMARY:Café Para Iniciantes
DESCRIPTION:
URL:https://www.bsca.com.br/event/cafe-para-iniciantes-3/
LOCATION:São Paulo\, São Paulo\, SP\, Brazil
CATEGORIES:Cursos
END:VEVENT
BEGIN:VEVENT
DTSTART;VALUE=DATE:20260314
DTEND;VALUE=DATE:20260315
DTSTAMP:20260426T035320
CREATED:20260205T132742Z
LAST-MODIFIED:20260205T132742Z
UID:6709-1773446400-1773532799@www.bsca.com.br
SUMMARY:Oficina de Métodos Filtrados
DESCRIPTION:
URL:https://www.bsca.com.br/event/oficina-de-metodos-filtrados-2/
LOCATION:São Paulo\, São Paulo\, SP\, Brazil
CATEGORIES:Cursos
END:VEVENT
BEGIN:VEVENT
DTSTART;VALUE=DATE:20260314
DTEND;VALUE=DATE:20260315
DTSTAMP:20260426T035320
CREATED:20260205T174539Z
LAST-MODIFIED:20260205T174539Z
UID:6739-1773446400-1773532799@www.bsca.com.br
SUMMARY:Barista Foundation - Coffee Skills Program SCA
DESCRIPTION:
URL:https://www.bsca.com.br/event/barista-foundation-coffee-skills-program-sca-5/
LOCATION:Salvador\, Salvador\, BA\, Brazil
CATEGORIES:Cursos
END:VEVENT
BEGIN:VEVENT
DTSTART;VALUE=DATE:20260314
DTEND;VALUE=DATE:20260315
DTSTAMP:20260426T035320
CREATED:20260205T174641Z
LAST-MODIFIED:20260205T174641Z
UID:6742-1773446400-1773532799@www.bsca.com.br
SUMMARY:Masterclass Filtrados
DESCRIPTION:
URL:https://www.bsca.com.br/event/masterclass-filtrados-2/
LOCATION:Salvador\, Salvador\, BA\, Brazil
CATEGORIES:Cursos
END:VEVENT
BEGIN:VEVENT
DTSTART;VALUE=DATE:20260314
DTEND;VALUE=DATE:20260315
DTSTAMP:20260426T035320
CREATED:20260210T171807Z
LAST-MODIFIED:20260210T171807Z
UID:6771-1773446400-1773532799@www.bsca.com.br
SUMMARY:Oficina de Café
DESCRIPTION:
URL:https://www.bsca.com.br/event/oficina-de-cafe-2/
LOCATION:Curitiba\, PR\, Curitiba\, PR
CATEGORIES:Cursos
END:VEVENT
BEGIN:VEVENT
DTSTART;VALUE=DATE:20260314
DTEND;VALUE=DATE:20260315
DTSTAMP:20260426T035320
CREATED:20260309T174409Z
LAST-MODIFIED:20260309T174409Z
UID:6997-1773446400-1773532799@www.bsca.com.br
SUMMARY:Curso de Latte art
DESCRIPTION:
URL:https://www.bsca.com.br/event/curso-de-latte-art/
LOCATION:Curitiba\, PR\, Curitiba\, PR
CATEGORIES:Cursos
END:VEVENT
BEGIN:VEVENT
DTSTART;VALUE=DATE:20260314
DTEND;VALUE=DATE:20260316
DTSTAMP:20260426T035320
CREATED:20251126T133153Z
LAST-MODIFIED:20251126T133153Z
UID:6459-1773446400-1773619199@www.bsca.com.br
SUMMARY:Barista Completo
DESCRIPTION:
URL:https://www.bsca.com.br/event/barista-completo-3/
LOCATION:Curitiba\, PR\, Curitiba\, PR
CATEGORIES:Cursos
END:VEVENT
BEGIN:VEVENT
DTSTART;VALUE=DATE:20260314
DTEND;VALUE=DATE:20260316
DTSTAMP:20260426T035320
CREATED:20260129T172655Z
LAST-MODIFIED:20260129T172655Z
UID:6656-1773446400-1773619199@www.bsca.com.br
SUMMARY:Curso Barista Fundamental SCA
DESCRIPTION:
URL:https://www.bsca.com.br/event/curso-barista-fundamental-sca/
LOCATION:Florianópolis\, SC\, Florianópolis\, SC
CATEGORIES:Cursos
END:VEVENT
BEGIN:VEVENT
DTSTART;TZID=UTC:20260314T080000
DTEND;TZID=UTC:20260315T170000
DTSTAMP:20260426T035320
CREATED:20260205T132414Z
LAST-MODIFIED:20260205T132414Z
UID:6705-1773475200-1773594000@www.bsca.com.br
SUMMARY:Barista Fundamental
DESCRIPTION:
URL:https://www.bsca.com.br/event/barista-fundamental-2/
LOCATION:São Paulo\, São Paulo\, SP\, Brazil
CATEGORIES:Cursos
END:VEVENT
END:VCALENDAR