BEGIN:VCALENDAR
VERSION:2.0
PRODID:-//BSCA - ECPv6.15.11//NONSGML v1.0//EN
CALSCALE:GREGORIAN
METHOD:PUBLISH
X-ORIGINAL-URL:https://www.bsca.com.br
X-WR-CALDESC:Eventos para BSCA
REFRESH-INTERVAL;VALUE=DURATION:PT1H
X-Robots-Tag:noindex
X-PUBLISHED-TTL:PT1H
BEGIN:VTIMEZONE
TZID:UTC
BEGIN:STANDARD
TZOFFSETFROM:+0000
TZOFFSETTO:+0000
TZNAME:UTC
DTSTART:20250101T000000
END:STANDARD
END:VTIMEZONE
BEGIN:VEVENT
DTSTART;VALUE=DATE:20260314
DTEND;VALUE=DATE:20260316
DTSTAMP:20260426T035318
CREATED:20251126T133153Z
LAST-MODIFIED:20251126T133153Z
UID:6459-1773446400-1773619199@www.bsca.com.br
SUMMARY:Barista Completo
DESCRIPTION:
URL:https://www.bsca.com.br/event/barista-completo-3/
LOCATION:Curitiba\, PR\, Curitiba\, PR
CATEGORIES:Cursos
END:VEVENT
BEGIN:VEVENT
DTSTART;VALUE=DATE:20260314
DTEND;VALUE=DATE:20260316
DTSTAMP:20260426T035318
CREATED:20260129T172655Z
LAST-MODIFIED:20260129T172655Z
UID:6656-1773446400-1773619199@www.bsca.com.br
SUMMARY:Curso Barista Fundamental SCA
DESCRIPTION:
URL:https://www.bsca.com.br/event/curso-barista-fundamental-sca/
LOCATION:Florianópolis\, SC\, Florianópolis\, SC
CATEGORIES:Cursos
END:VEVENT
BEGIN:VEVENT
DTSTART;TZID=UTC:20260314T080000
DTEND;TZID=UTC:20260315T170000
DTSTAMP:20260426T035318
CREATED:20260205T132414Z
LAST-MODIFIED:20260205T132414Z
UID:6705-1773475200-1773594000@www.bsca.com.br
SUMMARY:Barista Fundamental
DESCRIPTION:
URL:https://www.bsca.com.br/event/barista-fundamental-2/
LOCATION:São Paulo\, São Paulo\, SP\, Brazil
CATEGORIES:Cursos
END:VEVENT
BEGIN:VEVENT
DTSTART;VALUE=DATE:20260315
DTEND;VALUE=DATE:20260316
DTSTAMP:20260426T035318
CREATED:20260205T132855Z
LAST-MODIFIED:20260205T132855Z
UID:6711-1773532800-1773619199@www.bsca.com.br
SUMMARY:Experiência Sensorial - Introdução aos sabores e aromas do Café
DESCRIPTION:
URL:https://www.bsca.com.br/event/experiencia-sensorial-introducao-aos-sabores-e-aromas-do-cafe-3/
LOCATION:São Paulo\, São Paulo\, SP\, Brazil
CATEGORIES:Cursos
END:VEVENT
BEGIN:VEVENT
DTSTART;VALUE=DATE:20260315
DTEND;VALUE=DATE:20260316
DTSTAMP:20260426T035318
CREATED:20260205T133031Z
LAST-MODIFIED:20260205T133031Z
UID:6713-1773532800-1773619199@www.bsca.com.br
SUMMARY:Oficina de Espresso e Cappuccino
DESCRIPTION:
URL:https://www.bsca.com.br/event/oficina-de-espresso-e-cappuccino-3/
LOCATION:São Paulo\, São Paulo\, SP\, Brazil
CATEGORIES:Cursos
END:VEVENT
BEGIN:VEVENT
DTSTART;VALUE=DATE:20260315
DTEND;VALUE=DATE:20260317
DTSTAMP:20260426T035318
CREATED:20260205T174750Z
LAST-MODIFIED:20260205T174750Z
UID:6744-1773532800-1773705599@www.bsca.com.br
SUMMARY:Barista Intermediate - Coffee Skills Program SCA
DESCRIPTION:
URL:https://www.bsca.com.br/event/barista-intermediate-coffee-skills-program-sca-4/
LOCATION:Salvador\, Salvador\, BA\, Brazil
CATEGORIES:Cursos
END:VEVENT
END:VCALENDAR