BEGIN:VCALENDAR
VERSION:2.0
PRODID:-//BSCA - ECPv6.15.11//NONSGML v1.0//EN
CALSCALE:GREGORIAN
METHOD:PUBLISH
X-WR-CALNAME:BSCA
X-ORIGINAL-URL:https://www.bsca.com.br
X-WR-CALDESC:Eventos para BSCA
REFRESH-INTERVAL;VALUE=DURATION:PT1H
X-Robots-Tag:noindex
X-PUBLISHED-TTL:PT1H
BEGIN:VTIMEZONE
TZID:UTC
BEGIN:STANDARD
TZOFFSETFROM:+0000
TZOFFSETTO:+0000
TZNAME:UTC
DTSTART:20250101T000000
END:STANDARD
END:VTIMEZONE
BEGIN:VEVENT
DTSTART;VALUE=DATE:20260326
DTEND;VALUE=DATE:20260329
DTSTAMP:20260420T021236
CREATED:20251202T140845Z
LAST-MODIFIED:20260212T153012Z
UID:6515-1774483200-1774742399@www.bsca.com.br
SUMMARY:Melbourne International Coffee Expo 2026
DESCRIPTION:O projeto setorial “Brazil. The Coffee Nation” se encontra em Melbourne\, na Austrália\, na Melbourne International Coffee Expo\, entre os dias 26 a 28 de março de 2026. \nReconhecida como a maior feira de cafés da Austrália e uma das mais respeitadas da região Ásia-Pacífico\, a MICE Melbourne International Coffee Expo é o principal ponto de encontro para profissionais apaixonados pelo universo do café. \nA feira conecta produtores\, torrefações\, compradores\, baristas\, fabricantes de equipamentos e líderes que moldam o setor na Oceania. \nA MICE destaca o melhor do café em um país onde a cultura de consumo é sofisticada\, altamente técnica e aberta a perfis sensoriais diferenciados\, oferecendo uma vitrine estratégica para cafés especiais de alta qualidade\, como os do Brasil. \nA feira reúne experiências imersivas como a Roasters Alley\, o Cupping Room\, demonstrações técnicas\, competições\, além de promover conexões valiosas com compradores qualificados da Austrália\, Nova Zelândia e toda a região. \nJunte-se a nós em Melbourne e participe de uma das feiras mais relevantes do calendário global de cafés especiais. \nParticipe! \nInformações: eventos@bsca.com.br \n(35) 3212-4705
URL:https://www.bsca.com.br/event/melbourne-international-coffee-expo-2026/
LOCATION:Melbourne Convention & Exhibition Centre\, 1 Convention Centre Pl\, Melbourne\, Victoria\, 3006\, Australia
CATEGORIES:Brasil. A Nação do Café,Missões e feiras
ORGANIZER;CN="Sino Expo":MAILTO:info@imsinoexpo.com
END:VEVENT
END:VCALENDAR