BEGIN:VCALENDAR
VERSION:2.0
PRODID:-//BSCA - ECPv6.15.11//NONSGML v1.0//EN
CALSCALE:GREGORIAN
METHOD:PUBLISH
X-WR-CALNAME:BSCA
X-ORIGINAL-URL:https://www.bsca.com.br
X-WR-CALDESC:Eventos para BSCA
REFRESH-INTERVAL;VALUE=DURATION:PT1H
X-Robots-Tag:noindex
X-PUBLISHED-TTL:PT1H
BEGIN:VTIMEZONE
TZID:Asia/Shanghai
BEGIN:STANDARD
TZOFFSETFROM:+0800
TZOFFSETTO:+0800
TZNAME:CST
DTSTART:20250101T000000
END:STANDARD
END:VTIMEZONE
BEGIN:VEVENT
DTSTART;VALUE=DATE:20260330
DTEND;VALUE=DATE:20260403
DTSTAMP:20260419T221701
CREATED:20251202T135605Z
LAST-MODIFIED:20260212T153118Z
UID:6379-1774828800-1775174399@www.bsca.com.br
SUMMARY:Hotelex Shanghai
DESCRIPTION:O projeto setorial “Brazil. The Coffee Nation” se encontra na 34ª edição da Hotelex Shanghai 2026\, entre os dias 30 de março a 2 de abril de 2026. \nA Hotelex Shanghai se consolida como uma das maiores e mais influentes plataformas da Ásia para todo o setor de hospitalidade\, gastronomia e bebidas\, reunindo o que há de mais dinâmico no cenário da alimentação e bebidas da China\, país onde o consumo de cafés especiais cresce em ritmo acelerado e abre espaço para origens de alta qualidade como o Brasil. \nExperimente uma feira grandiosa\, com atrações que vão desde competições profissionais\, degustações\, fóruns de conhecimento\, área dedicada ao café e ao chá\, além da participação de milhares de expositores e visitantes de todo o mundo. \nParticipe conosco e fortaleça a presença do Brasil na vitrine mais poderosa da Ásia — descubra mais e integre essa oportunidade única de expansão e visibilidade internacional. \nParticipe! \nInformações: eventos@bsca.com.br \n(35) 3212-4705
URL:https://www.bsca.com.br/event/hotelex-shanghai-2026/
LOCATION:NECC Shanghai\, 58R4+7CQ\, Laigang Rd\, Xangai\, Qingpu District\, 201106\, China
CATEGORIES:Brasil. A Nação do Café,Missões e feiras
ORGANIZER;CN="Sino Expo":MAILTO:info@imsinoexpo.com
END:VEVENT
END:VCALENDAR