BEGIN:VCALENDAR
VERSION:2.0
PRODID:-//BSCA - ECPv6.15.11//NONSGML v1.0//EN
CALSCALE:GREGORIAN
METHOD:PUBLISH
X-WR-CALNAME:BSCA
X-ORIGINAL-URL:https://www.bsca.com.br
X-WR-CALDESC:Eventos para BSCA
REFRESH-INTERVAL;VALUE=DURATION:PT1H
X-Robots-Tag:noindex
X-PUBLISHED-TTL:PT1H
BEGIN:VTIMEZONE
TZID:Asia/Shanghai
BEGIN:STANDARD
TZOFFSETFROM:+0800
TZOFFSETTO:+0800
TZNAME:CST
DTSTART:20250101T000000
END:STANDARD
END:VTIMEZONE
BEGIN:VEVENT
DTSTART;VALUE=DATE:20261111
DTEND;VALUE=DATE:20261115
DTSTAMP:20260425T035652
CREATED:20260107T204233Z
LAST-MODIFIED:20260107T204744Z
UID:6578-1794355200-1794700799@www.bsca.com.br
SUMMARY:Seoul International Cafe Show
DESCRIPTION:O projeto setorial “Brazil. The Coffee Nation” viabiliza a presença do Brasil no Seoul International Cafe Show 2026\, que será realizado de 11 a 14 de novembro de 2026 no COEX Convention & Exhibition Center\, em Seul\, Coreia do Sul\, ação voltada à promoção internacional dos cafés especiais brasileiros e ao fortalecimento de conexões com mercados consumidores e compradores profissionais na Ásia. \nO Seoul International Cafe Show é reconhecido como um dos eventos de café mais importantes da Ásia. \nExperimente uma feira abrangente\, com atrações que conectam conhecimento\, tendências e oportunidades de negócios no mercado cafeeiro global\, consolidando a presença dos cafés especiais brasileiros em uma das principais vitrines do café na Ásia. \nParticipe conosco e fortaleça a presença do Brasil em um evento de referência para o setor de cafés especiais\, promovendo conexões estratégicas\, visibilidade internacional e oportunidades de desenvolvimento comercial. \nInscrições – Em breve \nInformações: eventos@bsca.com.br \n(35) 3212-4705
URL:https://www.bsca.com.br/event/seoul-international-cafe-show-2026/
LOCATION:COEX Convention & Exhibition Center\, Yeongdong-daero\, Gangnam District\, Seul\, Korea\, Democratic People's Republic of
CATEGORIES:Brasil. A Nação do Café,Missões e feiras
END:VEVENT
END:VCALENDAR