BEGIN:VCALENDAR
VERSION:2.0
PRODID:-//BSCA - ECPv6.15.11//NONSGML v1.0//EN
CALSCALE:GREGORIAN
METHOD:PUBLISH
X-WR-CALNAME:BSCA
X-ORIGINAL-URL:https://www.bsca.com.br
X-WR-CALDESC:Eventos para BSCA
REFRESH-INTERVAL;VALUE=DURATION:PT1H
X-Robots-Tag:noindex
X-PUBLISHED-TTL:PT1H
BEGIN:VTIMEZONE
TZID:Asia/Shanghai
BEGIN:STANDARD
TZOFFSETFROM:+0800
TZOFFSETTO:+0800
TZNAME:CST
DTSTART:20250101T000000
END:STANDARD
END:VTIMEZONE
BEGIN:VEVENT
DTSTART;VALUE=DATE:20261113
DTEND;VALUE=DATE:20261117
DTSTAMP:20260425T140923
CREATED:20260107T203201Z
LAST-MODIFIED:20260107T204700Z
UID:6576-1794528000-1794873599@www.bsca.com.br
SUMMARY:Taiwan International Coffee Show
DESCRIPTION:O projeto setorial “Brazil. The Coffee Nation” viabiliza a participação do Brasil na Taiwan International Coffee Show 2026\, que será realizada de 13 a 16 de novembro de 2026 no Taipei Nangang Exhibition Center Hall 1\, em Taipei\, Taiwan\, ação voltada à promoção internacional dos cafés especiais brasileiros e ao fortalecimento de conexões com compradores\, importadores e profissionais do setor na Ásia. \nA Taiwan International Coffee Show é reconhecida como um dos principais eventos da Ásia para os setores de café e equipamentos relacionados\, reunindo uma ampla diversidade de marcas\, fornecedores\, inovação tecnológica e oportunidades de conhecimento. \nParticipe conosco e fortaleça a presença do Brasil em um dos principais palcos de inovação e relacionamento da indústria cafeeira asiática. Descubra novas oportunidades de desenvolvimento e amplie a visibilidade internacional dos cafés especiais brasileiros. \nInscrições – Em breve \nInformações: eventos@bsca.com.br \n(35) 3212-4705
URL:https://www.bsca.com.br/event/taiwan-intl-coffee-show-2026/
LOCATION:Taipei Nangang Exhibition Center\, No. 1\, Jingmao 2nd Rd\, Nangang District.\, Taipei City\, Taiwan
CATEGORIES:Brasil. A Nação do Café,Missões e feiras
END:VEVENT
END:VCALENDAR