BEGIN:VCALENDAR
VERSION:2.0
PRODID:-//BSCA - ECPv6.15.11//NONSGML v1.0//EN
CALSCALE:GREGORIAN
METHOD:PUBLISH
X-ORIGINAL-URL:https://www.bsca.com.br
X-WR-CALDESC:Eventos para BSCA
REFRESH-INTERVAL;VALUE=DURATION:PT1H
X-Robots-Tag:noindex
X-PUBLISHED-TTL:PT1H
BEGIN:VTIMEZONE
TZID:UTC
BEGIN:STANDARD
TZOFFSETFROM:+0000
TZOFFSETTO:+0000
TZNAME:UTC
DTSTART:20250101T000000
END:STANDARD
END:VTIMEZONE
BEGIN:VEVENT
DTSTART;VALUE=DATE:20260118
DTEND;VALUE=DATE:20260121
DTSTAMP:20260425T141014
CREATED:20251016T160701Z
LAST-MODIFIED:20251016T165358Z
UID:3176-1768694400-1768953599@www.bsca.com.br
SUMMARY:World Of Coffee Dubai
DESCRIPTION:Celebrando agora sua 5ª edição\, o World of Coffee Dubai 2026 é a principal plataforma do Oriente Médio para a comunidade de cafés especiais. \nO evento foi criado para conectar produtores\, fabricantes\, varejistas\, traders e líderes apaixonados pela indústria do café. \nO #WOCDubai reúne o melhor dos Emirados Árabes Unidos e do cenário cafeeiro em rápido crescimento em toda a região. \nSe você busca expandir seus negócios\, descobrir as últimas tendências ou ingressar no promissor mercado de café do Oriente Médio\, o WOC Dubai oferece oportunidades incomparáveis. \nVivencie uma feira vibrante e atrações dinâmicas como a Roaster Village\, os Campeonatos Nacionais dos EAU\, o SCA Community Lounge\, a Competição e Exposição de Novos Produtos\, além de palestras inspiradoras e muito mais. \nJunte-se a nós para construir o futuro do café — descubra mais e faça parte desta jornada extraordinária. \nhttps://dubai.worldofcoffee.org/documents/2416892/0/woc_final_2025_1_.mp4
URL:https://www.bsca.com.br/event/wocdubai2026/
LOCATION:Dubai World Trade Centre\, Sheikh Zayed Rd - Trade Centre - Trade Centre 2\, Dubai\, Dubai\, United Arab Emirates
CATEGORIES:Brasil. A Nação do Café,Missões e feiras
ATTACH;FMTTYPE=image/webp:https://www.bsca.com.br/wp-content/uploads/2025/10/WOCD26LandscapeWeb@3x.webp
END:VEVENT
END:VCALENDAR